BEGIN:VCALENDAR
VERSION:2.0
PRODID:-//wp-events-plugin.com//6.6.3//EN
TZID:Europe/Berlin
X-WR-TIMEZONE:Europe/Berlin
BEGIN:VEVENT
UID:29@sg-badschoenborn.de
DTSTART;TZID=Europe/Berlin;VALUE=DATE:20230816
DTEND;TZID=Europe/Berlin;VALUE=DATE:20230818
DTSTAMP:20230802T151252Z
URL:https://www.sg-badschoenborn.de/events/bus-reserviert/
SUMMARY:Bus reserviert
DESCRIPTION:Freitagsgruppe Herbert Huckele
CATEGORIES:Vereinsbus reserviert
END:VEVENT
BEGIN:VTIMEZONE
TZID:Europe/Berlin
X-LIC-LOCATION:Europe/Berlin
BEGIN:DAYLIGHT
DTSTART:20230326T030000
TZOFFSETFROM:+0100
TZOFFSETTO:+0200
TZNAME:CEST
END:DAYLIGHT
END:VTIMEZONE
END:VCALENDAR