BEGIN:VCALENDAR
VERSION:2.0
PRODID:-//wp-events-plugin.com//6.6.3//EN
TZID:Europe/Berlin
X-WR-TIMEZONE:Europe/Berlin
BEGIN:VEVENT
UID:30@sg-badschoenborn.de
DTSTART;TZID=Europe/Berlin;VALUE=DATE:20240906
DTEND;TZID=Europe/Berlin;VALUE=DATE:20240909
DTSTAMP:20230915T130302Z
URL:https://www.sg-badschoenborn.de/events/hochzeitsfeier-2/
SUMMARY:Geburtstagsfeier
DESCRIPTION:Katharina Willhauck
CATEGORIES:Vereinsraum gebucht – großer Saal
LOCATION:Vereinsgebäude\, Schönbornallee 7\, 76669 Bad Schönborn\, Deuts
 chland
X-APPLE-STRUCTURED-LOCATION;VALUE=URI;X-ADDRESS=Schönbornallee 7\, 76669 B
 ad Schönborn\, Deutschland;X-APPLE-RADIUS=100;X-TITLE=Vereinsgebäude:geo
 :0,0
END:VEVENT
BEGIN:VTIMEZONE
TZID:Europe/Berlin
X-LIC-LOCATION:Europe/Berlin
BEGIN:DAYLIGHT
DTSTART:20240331T030000
TZOFFSETFROM:+0100
TZOFFSETTO:+0200
TZNAME:CEST
END:DAYLIGHT
END:VTIMEZONE
END:VCALENDAR