BEGIN:VCALENDAR
VERSION:2.0
PRODID:-//wp-events-plugin.com//6.6.3//EN
TZID:Europe/Berlin
X-WR-TIMEZONE:Europe/Berlin
BEGIN:VEVENT
UID:50@sg-badschoenborn.de
DTSTART;TZID=Europe/Berlin:20231126T100000
DTEND;TZID=Europe/Berlin:20231126T130000
DTSTAMP:20231113T095211Z
URL:https://www.sg-badschoenborn.de/events/pruefung-sarah/
SUMMARY:Prüfung Sarah
DESCRIPTION:Sarah Zilly Prüfung
CATEGORIES:Vereinsraum gebucht – großer Saal
LOCATION:Vereinsgebäude\, Schönbornallee 7\, 76669 Bad Schönborn\, Deuts
 chland
X-APPLE-STRUCTURED-LOCATION;VALUE=URI;X-ADDRESS=Schönbornallee 7\, 76669 B
 ad Schönborn\, Deutschland;X-APPLE-RADIUS=100;X-TITLE=Vereinsgebäude:geo
 :0,0
END:VEVENT
BEGIN:VTIMEZONE
TZID:Europe/Berlin
X-LIC-LOCATION:Europe/Berlin
BEGIN:STANDARD
DTSTART:20231029T020000
TZOFFSETFROM:+0200
TZOFFSETTO:+0100
TZNAME:CET
END:STANDARD
END:VTIMEZONE
END:VCALENDAR