BEGIN:VCALENDAR
VERSION:2.0
PRODID:-//wp-events-plugin.com//6.6.3//EN
TZID:Europe/Berlin
X-WR-TIMEZONE:Europe/Berlin
BEGIN:VEVENT
UID:64@sg-badschoenborn.de
DTSTART;TZID=Europe/Berlin;VALUE=DATE:20240302
DTEND;TZID=Europe/Berlin;VALUE=DATE:20240303
DTSTAMP:20240225T150749Z
URL:https://www.sg-badschoenborn.de/events/sg-bus-sportfest-mannheim/
SUMMARY:SG Bus Sportfest Mannheim
DESCRIPTION:Gudrun Seiler
CATEGORIES:Vereinsbus reserviert
END:VEVENT
BEGIN:VTIMEZONE
TZID:Europe/Berlin
X-LIC-LOCATION:Europe/Berlin
BEGIN:STANDARD
DTSTART:20231029T020000
TZOFFSETFROM:+0200
TZOFFSETTO:+0100
TZNAME:CET
END:STANDARD
END:VTIMEZONE
END:VCALENDAR