BEGIN:VCALENDAR
VERSION:2.0
PRODID:-//wp-events-plugin.com//6.6.3//EN
TZID:Europe/Berlin
X-WR-TIMEZONE:Europe/Berlin
BEGIN:VEVENT
UID:114@sg-badschoenborn.de
DTSTART;TZID=Europe/Berlin:20250107T180000
DTEND;TZID=Europe/Berlin:20250107T234500
DTSTAMP:20241223T091221Z
URL:https://www.sg-badschoenborn.de/events/sitzung-wirtschaftsteam-2/
SUMMARY:Sitzung Wirtschaftsteam
DESCRIPTION:reserviert von Brigitte Zilly für Wirtschaftsteamsitzung
LOCATION:Meetingraum\, Schönbornallee 7\, Bad Schönborn\, Baden-Württemb
 erg\, 76669\, Deutschland
X-APPLE-STRUCTURED-LOCATION;VALUE=URI;X-ADDRESS=Schönbornallee 7\, Bad Sch
 önborn\, Baden-Württemberg\, 76669\, Deutschland;X-APPLE-RADIUS=100;X-TI
 TLE=Meetingraum:geo:0,0
END:VEVENT
BEGIN:VTIMEZONE
TZID:Europe/Berlin
X-LIC-LOCATION:Europe/Berlin
BEGIN:STANDARD
DTSTART:20241027T020000
TZOFFSETFROM:+0200
TZOFFSETTO:+0100
TZNAME:CET
END:STANDARD
END:VTIMEZONE
END:VCALENDAR