BEGIN:VCALENDAR
VERSION:2.0
PRODID:-//wp-events-plugin.com//6.6.3//EN
TZID:Europe/Berlin
X-WR-TIMEZONE:Europe/Berlin
BEGIN:VEVENT
UID:101@sg-badschoenborn.de
DTSTART;TZID=Europe/Berlin:20251219T180000
DTEND;TZID=Europe/Berlin:20251219T234500
DTSTAMP:20251006T152452Z
URL:https://www.sg-badschoenborn.de/events/sportlerehrung-gluehweinparty/
SUMMARY:Sportlerehrung - Glühweinparty
DESCRIPTION:
CATEGORIES:Außenbereich reserviert (Terrasse, Biergarten,
 Rasenplatz),Garage,Vereinsraum + Außenbereich
LOCATION:Außenbereich\, Schönbornallee 7\, 76669 Bad Schönborn\, Deutsch
 land
X-APPLE-STRUCTURED-LOCATION;VALUE=URI;X-ADDRESS=Schönbornallee 7\, 76669 B
 ad Schönborn\, Deutschland;X-APPLE-RADIUS=100;X-TITLE=Außenbereich:geo:0
 ,0
END:VEVENT
BEGIN:VTIMEZONE
TZID:Europe/Berlin
X-LIC-LOCATION:Europe/Berlin
BEGIN:STANDARD
DTSTART:20251026T020000
TZOFFSETFROM:+0200
TZOFFSETTO:+0100
TZNAME:CET
END:STANDARD
END:VTIMEZONE
END:VCALENDAR