BEGIN:VCALENDAR
VERSION:2.0
PRODID:-//wp-events-plugin.com//6.6.3//EN
TZID:Europe/Berlin
X-WR-TIMEZONE:Europe/Berlin
BEGIN:VEVENT
UID:17@sg-badschoenborn.de
DTSTART;TZID=Europe/Berlin:20230624T090000
DTEND;TZID=Europe/Berlin:20230624T170000
DTSTAMP:20230403T082453Z
URL:https://www.sg-badschoenborn.de/events/sporttag-1250-jahre-mingolsheim
 /
SUMMARY:Sporttag 1250 Jahre Mingolsheim
DESCRIPTION:
CATEGORIES:Außenbereich reserviert (Terrasse, Biergarten, Rasenplatz)
LOCATION:Stadion\, Schönbornallee 7\, 76669 Bad Schönborn\, Deutschland
X-APPLE-STRUCTURED-LOCATION;VALUE=URI;X-ADDRESS=Schönbornallee 7\, 76669 B
 ad Schönborn\, Deutschland;X-APPLE-RADIUS=100;X-TITLE=Stadion:geo:0,0
END:VEVENT
BEGIN:VTIMEZONE
TZID:Europe/Berlin
X-LIC-LOCATION:Europe/Berlin
BEGIN:DAYLIGHT
DTSTART:20230326T030000
TZOFFSETFROM:+0100
TZOFFSETTO:+0200
TZNAME:CEST
END:DAYLIGHT
END:VTIMEZONE
END:VCALENDAR